BEGIN:VCALENDAR
VERSION:2.0
PRODID:-//Western Avenue Studios - ECPv6.6.4.2//NONSGML v1.0//EN
CALSCALE:GREGORIAN
METHOD:PUBLISH
X-ORIGINAL-URL:https://westernavenuestudios.com
X-WR-CALDESC:Events for Western Avenue Studios
REFRESH-INTERVAL;VALUE=DURATION:PT1H
X-Robots-Tag:noindex
X-PUBLISHED-TTL:PT1H
BEGIN:VTIMEZONE
TZID:UTC
BEGIN:STANDARD
TZOFFSETFROM:+0000
TZOFFSETTO:+0000
TZNAME:UTC
DTSTART:20240101T000000
END:STANDARD
END:VTIMEZONE
BEGIN:VEVENT
DTSTART;TZID=UTC:20240901T100000
DTEND;TZID=UTC:20241105T170000
DTSTAMP:20260425T025652
CREATED:20240829T183550Z
LAST-MODIFIED:20240830T162707Z
UID:41521-1725184800-1730826000@westernavenuestudios.com
SUMMARY:Shelter: Group Exhibition | 4th Floor Mini Gallery
DESCRIPTION:“Shelter” is a group art exhibition featuring Western Avenue artists happening on the fourth floor mini gallery. You can check it out any day of the week from 10:00 AM – 5:00 PM starting September 1st\, 2024 through November 5th\, 2024 at 122 Western Avenue Studios\, Lowell\, MA\, 4th Floor. \nWhat is Shelter? Shelter is something that provides protection\, safety and sanctuary. Over 15 artists explore this concept through diverse works of art ranging from the natural world to the social/political issues of our times.
URL:https://westernavenuestudios.com/event/shelter/
LOCATION:4th Floor Mini Gallery\, 122 Western Avenue\, Lowell\, MA\, 01851\, United States
CATEGORIES:Mini Gallery Show
ATTACH;FMTTYPE=application/pdf:https://westernavenuestudios.com/wp-content/uploads/2024/08/ShelterPosterUpdated.pdf
ORGANIZER;CN="Western Avenue | Studios & Lofts":MAILTO:marketing@westernavenuestudios.com
END:VEVENT
BEGIN:VEVENT
DTSTART;TZID=UTC:20240901T100000
DTEND;TZID=UTC:20241215T170000
DTSTAMP:20260425T025652
CREATED:20240830T160227Z
LAST-MODIFIED:20241114T182259Z
UID:41609-1725184800-1734282000@westernavenuestudios.com
SUMMARY:Unique Visions: Barbara Fletcher and May DeViney at the 3rd Floor Mini Gallery
DESCRIPTION:Unique Visions is an exhibition by two distinguished Western Avenue artists that consists of paintings\, mixed media & sculpture . Check out their artwork any day of the week 10:00 AM – 5:00 PM. This mini gallery will be shown on our third floor September 1st\, 2024 through December 15th\, 2024. \nOpening reception will be October 5th from 5:00 PM – 7:00 PM. \nPolitical Isms: Ism is a noun meaning ideological movement typically political or artistic. In our modern world there are a lot of isms at play. Artists May DeViney and Barbara Fletcher bring together different isms meeting in the middle with humor\, color\, technique and intention. \nMake sure to check it out in our third floor at 122 Western Avenue Studio\, Lowell\, MA.
URL:https://westernavenuestudios.com/event/unique-visions-barbara-fletcher-and-may-deviney-2/
LOCATION:3rd Floor Mini Gallery\, 122 Western Avenue\, Lowell\, MA\, 01851\, United States
CATEGORIES:Mini Gallery Show
ATTACH;FMTTYPE=image/jpeg:https://westernavenuestudios.com/wp-content/uploads/2024/08/WA-Mini-Gallery-Flyers-11-x-17-in.jpg
ORGANIZER;CN="Western Avenue | Studios & Lofts":MAILTO:marketing@westernavenuestudios.com
END:VEVENT
END:VCALENDAR