BEGIN:VCALENDAR
VERSION:2.0
PRODID:-//Western Avenue Studios - ECPv6.6.4.2//NONSGML v1.0//EN
CALSCALE:GREGORIAN
METHOD:PUBLISH
X-ORIGINAL-URL:https://westernavenuestudios.com
X-WR-CALDESC:Events for Western Avenue Studios
REFRESH-INTERVAL;VALUE=DURATION:PT1H
X-Robots-Tag:noindex
X-PUBLISHED-TTL:PT1H
BEGIN:VTIMEZONE
TZID:UTC
BEGIN:STANDARD
TZOFFSETFROM:+0000
TZOFFSETTO:+0000
TZNAME:UTC
DTSTART:20240101T000000
END:STANDARD
END:VTIMEZONE
BEGIN:VEVENT
DTSTART;TZID=UTC:20240901T100000
DTEND;TZID=UTC:20241215T170000
DTSTAMP:20260419T185945
CREATED:20240830T160227Z
LAST-MODIFIED:20241114T182259Z
UID:41609-1725184800-1734282000@westernavenuestudios.com
SUMMARY:Unique Visions: Barbara Fletcher and May DeViney at the 3rd Floor Mini Gallery
DESCRIPTION:Unique Visions is an exhibition by two distinguished Western Avenue artists that consists of paintings\, mixed media & sculpture . Check out their artwork any day of the week 10:00 AM – 5:00 PM. This mini gallery will be shown on our third floor September 1st\, 2024 through December 15th\, 2024. \nOpening reception will be October 5th from 5:00 PM – 7:00 PM. \nPolitical Isms: Ism is a noun meaning ideological movement typically political or artistic. In our modern world there are a lot of isms at play. Artists May DeViney and Barbara Fletcher bring together different isms meeting in the middle with humor\, color\, technique and intention. \nMake sure to check it out in our third floor at 122 Western Avenue Studio\, Lowell\, MA.
URL:https://westernavenuestudios.com/event/unique-visions-barbara-fletcher-and-may-deviney-2/
LOCATION:3rd Floor Mini Gallery\, 122 Western Avenue\, Lowell\, MA\, 01851\, United States
CATEGORIES:Mini Gallery Show
ATTACH;FMTTYPE=image/jpeg:https://westernavenuestudios.com/wp-content/uploads/2024/08/WA-Mini-Gallery-Flyers-11-x-17-in.jpg
ORGANIZER;CN="Western Avenue | Studios & Lofts":MAILTO:marketing@westernavenuestudios.com
END:VEVENT
BEGIN:VEVENT
DTSTART;TZID=UTC:20241005T100000
DTEND;TZID=UTC:20241123T170000
DTSTAMP:20260419T185945
CREATED:20240924T134656Z
LAST-MODIFIED:20240924T134656Z
UID:41758-1728122400-1732381200@westernavenuestudios.com
SUMMARY:Comic Book as Art & Craft - Mary Dumas | 2nd Floor Mini Gallery
DESCRIPTION:This October & November! Mary Dumas’ exhibition will showcase the first pages of their comics in a poster-like format\, inviting visitors to read along as they walk through the gallery. Accompanying nearly every poster will be information providing insights into the process of creating independent comics today. \nThis amazing art exhibition will be available to visitors on the 2nd floor of our studios building from October 5th to November 23rd any day of the week from 10:00 AM – 5:00 PM. 122 Western Avenue Studios\, Lowell\, MA 01851. \nOpening Reception – October 6th at 2:00 PM
URL:https://westernavenuestudios.com/event/comic-book-as-art-craft-mary-dumas-2nd-floor-mini-gallery/
LOCATION:2nd Floor Mini Gallery\, 122 Western Avenue\, Lowell\, MA\, 01851\, United States
ATTACH;FMTTYPE=image/jpeg:https://westernavenuestudios.com/wp-content/uploads/2024/09/ER-v2-cover-.pdf-1.jpg
ORGANIZER;CN="Western Avenue | Studios & Lofts":MAILTO:marketing@westernavenuestudios.com
END:VEVENT
BEGIN:VEVENT
DTSTART;TZID=UTC:20241121T180000
DTEND;TZID=UTC:20241121T190000
DTSTAMP:20260419T185945
CREATED:20241105T164734Z
LAST-MODIFIED:20241121T162553Z
UID:42020-1732212000-1732215600@westernavenuestudios.com
SUMMARY:Workshop: Legal Issues of AI Creativity with Bhamati Viswantahan & Luke Blackadar
DESCRIPTION:The laws covering artificial intelligence\, especially use of AI for creative projects\, are constantly evolving. The purpose of this workshop is to introduce the legal systems that currently apply to creative use of AI\, including copyright\, trademark\, and publicity.  \nRegister HERE  \nLuke Blackadar is the Arts & Business Council’s Deputy Director\, Luke counsels artists\, creative start-ups\, and arts nonprofits manage legal issues involving copyright\, trademark\, contract\, entity formation\, and corporate governance. Luke is also faculty at Roger Williams University School of Law\, Boston University Metropolitan College\, and Northeastern University School of Law. \nBhamati Viswanathan Professor Bhamati Viswanathan has several years of teaching experience at diverse schools\, including Williams College\, University of Pennsylvania Law School\, and most recently\, Emerson College and Roger Williams University Law School.  \nPrior to teaching\, Professor Viswanathan practiced corporate and securities law in New York and Massachusetts. She then worked at a technology startup\, where she served as counsel on corporate and intellectual property matters. She is Assistant Professor of Law at New England Law | Boston and a trustee and chair of the New England Section of the Copyright Society of the U.S. She is co-chair of the Emerging Technologies Committee of the American Bar Association IP Law Section. She is also a faculty advisor on the Academic Board of the Copyright Alliance.  \nProfessor Viswanathan continues to speak\, write\, and advise actively on IP issues\, particularly with respect to creative industries and entrepreneurship.
URL:https://westernavenuestudios.com/event/workshop-legal-issues-of-ai-creativity-with-bhamati-viswantahan-luke-blackadar/
LOCATION:The Teaching Space\, Studio 225\, 122 Western Avenue\, Lowell\, MA\, 01851
ATTACH;FMTTYPE=image/jpeg:https://westernavenuestudios.com/wp-content/uploads/2024/11/AI-Workshop-Series.jpg
ORGANIZER;CN="Western Avenue | Studios & Lofts":MAILTO:marketing@westernavenuestudios.com
END:VEVENT
END:VCALENDAR