BEGIN:VCALENDAR
VERSION:2.0
PRODID:-//Western Avenue Studios - ECPv6.6.4.2//NONSGML v1.0//EN
CALSCALE:GREGORIAN
METHOD:PUBLISH
X-WR-CALNAME:Western Avenue Studios
X-ORIGINAL-URL:https://westernavenuestudios.com
X-WR-CALDESC:Events for Western Avenue Studios
REFRESH-INTERVAL;VALUE=DURATION:PT1H
X-Robots-Tag:noindex
X-PUBLISHED-TTL:PT1H
BEGIN:VTIMEZONE
TZID:UTC
BEGIN:STANDARD
TZOFFSETFROM:+0000
TZOFFSETTO:+0000
TZNAME:UTC
DTSTART:20250101T000000
END:STANDARD
END:VTIMEZONE
BEGIN:VEVENT
DTSTART;TZID=UTC:20250301T080000
DTEND;TZID=UTC:20250525T170000
DTSTAMP:20260420T053556
CREATED:20250218T152118Z
LAST-MODIFIED:20250304T150255Z
UID:42470-1740816000-1748192400@westernavenuestudios.com
SUMMARY:Handmade | Group Textiles Show | Lofts Lobby Gallery
DESCRIPTION:Western Avenue Lofts artists worked together to put this exhibition together. \nThis show is centered around textiles and collaboration. These pieces are made by passing them around through multiple artists\, and some solo pieces as well that all speak to each other in the form of all secondhand textiles. \nThis mini gallery will be open to the public every Open Studios 9am – 5pm or by appointment email: @mayflybus@gmail.com \nAvailable to the public from March 1st through May 25th.
URL:https://westernavenuestudios.com/event/handmade-collaborative-textiles-show-lofts-lobby-gallery/
LOCATION:Loft Lobby\, 160 Western Avenue\, Lowell\, MA\, 01851\, United States
ATTACH;FMTTYPE=application/pdf:https://westernavenuestudios.com/wp-content/uploads/2025/02/Handmade-Show-Poster-2.pdf
ORGANIZER;CN="Western Avenue | Studios & Lofts":MAILTO:marketing@westernavenuestudios.com
END:VEVENT
BEGIN:VEVENT
DTSTART;TZID=UTC:20250301T090000
DTEND;TZID=UTC:20250415T170000
DTSTAMP:20260420T053556
CREATED:20250220T203948Z
LAST-MODIFIED:20250304T150226Z
UID:42473-1740819600-1744736400@westernavenuestudios.com
SUMMARY:Collective Conscience: The Work of the Inaugural A4A Lowell Cohort Group Exhibition | 3rd Floor Mini Gallery
DESCRIPTION:Collective Conscience is a celebration of the Inaugural Assets 4 Artists Capacity Building Program Lowell Cohort’s work over the last six months. This cohort of artists all live and/or make their art in Lowell. Since the end of summer 2024\, they have attended workshops\, coaching sessions\, and engaged in reflection on their practices. This celebration of work marks the end of the program while at the same time looking ahead at what’s to come.\n\n\n\n\n\n\n\nThe 12 members of the first Lowell Cohort of Assets for Artists have come together to share their work from the past six months. Join us during Open Studios for the opening of this exhibit containing a variety of mediums such as photography\, painting\, ceramics\, textiles & mixed media. \nOpening Reception: March 1st 3-5pm \n\n\n\n\n\n\n\nAvailable to the public:\n\n\n\n\n\n\n\nMarch 1st through April 15th anytime from 9am – 5pm. \nArtists: \nKim-Sarah I\, Veronica Williams Holmes\, Makayla Boucher\, Gwendolyn Lanier\, Naomi Torres-Ortiz\, Michele Mullet\, Matthew Wolterding. \n  \n122 Western Avenue Studios\, 3rd Floor Mini Gallery\, Lowell MA\, 01851
URL:https://westernavenuestudios.com/event/collective-conscious-the-work-of-the-inaugural-a4a-lowell-cohort-group-exhibition-3rd-floor-mini-gallery/
LOCATION:Third Floor of WA\, 122 Western Ave.\, Lowell\, Massachusetts\, 01851
ATTACH;FMTTYPE=image/jpeg:https://westernavenuestudios.com/wp-content/uploads/2025/02/Collective-Conscious-Assets-for-Artists-2.jpg
ORGANIZER;CN="Western Avenue | Studios & Lofts":MAILTO:marketing@westernavenuestudios.com
END:VEVENT
BEGIN:VEVENT
DTSTART;TZID=UTC:20250301T120000
DTEND;TZID=UTC:20250518T170000
DTSTAMP:20260420T053556
CREATED:20250220T150519Z
LAST-MODIFIED:20250428T173207Z
UID:42514-1740830400-1747587600@westernavenuestudios.com
SUMMARY:Tool Shed | Storage Closet Gallery at Lofts | Parker Aubin
DESCRIPTION:In Tool Shed\, a show of sculptures by Parker Aubin at the Storage Closet Gallery from March to May 2025\, Aubin questions and plays with the form and function of old hand tools\, each sculpture telling a newly wrought story. Through these assemblages\, he often explores serious issues but likes to use visual humor to encourage a lighthearted outlook. Aubin finds creative purpose in the repurposing of these old tools\, “There is great satisfaction in taking a rusty tool with a broken wooden handle and bringing it back to life. \n\nAubin holds degrees in math and engineering and has worked in the civil engineering world for the past decade. It is the rural setting of Aubin’s youth in the hills of eastern Connecticut and the stories and tools of their inhabitants that have most influenced the media and methods of this body of work. \n\nStorage Closet Galleryis a small space for art by artists at Western Avenue Lofts.\n\n\n\n\n\nLocation: Storage Closet Gallery\, 160 Western Ave\, 2nd Floor\, Lowell\, MA\nDates: March 1st to May 18th\, 2025\nOpen to the public from 12 to 5pm during Western Ave Studios & Lofts Open Studios: \nSaturday\, March 1st\, Saturday April 5th\, Saturday May 3rd\, and by appointment. \n\n\n\n\n\n\nInstagram: @storageclosetgallery\, @parkeraubin\n\nContacts:\nParker Aubin\, Artist\, 312-350-1270\, pwaubin@gmail.com\n\nAntoinette Indge\, Gallery Director\, 917 696 1241\, aeindge@gmail.com
URL:https://westernavenuestudios.com/event/tool-shed-storage-closet-gallery-at-lofts-parker-aubin/
LOCATION:Storage Closet Gallery\, 160 Western Ave\, Lowell\, MA\, 01851
ATTACH;FMTTYPE=image/jpeg:https://westernavenuestudios.com/wp-content/uploads/2025/02/Collaborative-Textiles-Show.jpg
ORGANIZER;CN="Western Avenue | Studios & Lofts":MAILTO:marketing@westernavenuestudios.com
END:VEVENT
BEGIN:VEVENT
DTSTART;TZID=UTC:20250401T090000
DTEND;TZID=UTC:20250707T170000
DTSTAMP:20260420T053556
CREATED:20250318T144904Z
LAST-MODIFIED:20250519T155606Z
UID:42552-1743498000-1751907600@westernavenuestudios.com
SUMMARY:Awakenings | Group Exhibition | 4th Floor Mini Gallery
DESCRIPTION:This exhibition celebrates the timeless promise of renewal and the hope for brighter days ahead. Step into a world of light and color\, where the muted grays of winter make the way for the vibrant palette of spring. Through a variety of styles and techniques\, these works collectively embody the optimism of fresh starts\, the potential for transformation\, and the arrival of warmer seasons. With a range of mediums\, artists at WA seek to inspire a sense of optimism and communicate to our visitors the enduring opportunity for new beginnings. \n  \nThis exhibit is on our 4th floor mini gallery. Open to the public any day of the week anytime from 10AM – 5PM. \n122 Western Avenue Studios & Lofts\, 4th Floor Mini Gallery\, Lowell MA\, 01851.
URL:https://westernavenuestudios.com/event/awakenings-group-exhibition-4th-floor-mini-gallery/
LOCATION:4th Floor Mini Gallery\, 122 Western Avenue\, Lowell\, MA\, 01851\, United States
ATTACH;FMTTYPE=application/pdf:https://westernavenuestudios.com/wp-content/uploads/2025/03/AwakeningsMiniGalleryPosterFINAL.pdf
ORGANIZER;CN="Western Avenue | Studios & Lofts":MAILTO:marketing@westernavenuestudios.com
END:VEVENT
BEGIN:VEVENT
DTSTART;TZID=UTC:20250405T120000
DTEND;TZID=UTC:20250405T170000
DTSTAMP:20260420T053556
CREATED:20250303T143024Z
LAST-MODIFIED:20250327T133215Z
UID:42513-1743854400-1743872400@westernavenuestudios.com
SUMMARY:April Open Studios
DESCRIPTION:Immerse yourself in the magic of our creative community during Open Studios. This is not just an event; it’s an experience you don’t want to miss. \n\n\n\nFive floors of art studios\, two floors of artist lofts\, a coffee shop\, a co-op art gallery\, a food truck\, and a brewery. \n\n\n\nEnjoy our all that our Lofts have on display this month! The Lofts Lobby Gallery exhibition Handmade a group textile show celebrates a wide range of textiles projects. On the second floor Storage Closet Gallery artist Parker Aubin questions and plays with the form and function of old hand tools\, each sculpture telling a newly wrought story. \nThe Studio Mini Galleries are bustling this month: On the 3rd floor the Assets 4 Artists Capacity Building Program Lowell Cohort show Collective Conscious showcases their work over the last six months. The 4th Floor’s newest show Awakenings celebrates the timeless promise of renewal and the hope for brighter days ahead. \nThere is no charge for this event. This event is dog-friendly. We ask that you keep your pup on a leash. See you here!
URL:https://westernavenuestudios.com/event/april-open-studios/
LOCATION:Western Avenue Studios & Lofts\, 122 Western Avenue\, Lowell\, MA\, 01851\, United States
CATEGORIES:Open Studios
ATTACH;FMTTYPE=image/jpeg:https://westernavenuestudios.com/wp-content/uploads/2025/03/FB-Event-Cover-April-2025-OS.jpg
ORGANIZER;CN="Western Avenue | Studios & Lofts":MAILTO:marketing@westernavenuestudios.com
END:VEVENT
END:VCALENDAR