BEGIN:VCALENDAR
VERSION:2.0
PRODID:-//Western Avenue Studios - ECPv6.6.4.2//NONSGML v1.0//EN
CALSCALE:GREGORIAN
METHOD:PUBLISH
X-ORIGINAL-URL:https://westernavenuestudios.com
X-WR-CALDESC:Events for Western Avenue Studios
REFRESH-INTERVAL;VALUE=DURATION:PT1H
X-Robots-Tag:noindex
X-PUBLISHED-TTL:PT1H
BEGIN:VTIMEZONE
TZID:UTC
BEGIN:STANDARD
TZOFFSETFROM:+0000
TZOFFSETTO:+0000
TZNAME:UTC
DTSTART:20250101T000000
END:STANDARD
END:VTIMEZONE
BEGIN:VEVENT
DTSTART;TZID=UTC:20250929T090000
DTEND;TZID=UTC:20251215T170000
DTSTAMP:20260424T214219
CREATED:20250821T145714Z
LAST-MODIFIED:20251118T195514Z
UID:43100-1759136400-1765818000@westernavenuestudios.com
SUMMARY:SOLID GROUND | A Group Exhibit by WA Artists | 3rd & 5th Mini Galleries
DESCRIPTION:As Western Avenue marks its 20th anniversary\, this exhibition honors the very place that has nurtured our creative community for two decades: our historic mill buildings. These vast\, storied spaces are more than walls and windows\, they are the ground where we work\, experiment\, and grow; where artists meet\, collaborate\, and live as part of a culture that values creativity. \nThe show invites reflection on what it means to have a space dedicated to making art\, a space where the artist-self is not an oddity but part of a thriving collective. Here\, we are free to be authentic\, playful\, bold\, and deeply curious in our explorations. \nFeaturing work in all mediums\, the exhibition celebrates the physical presence of the Western Avenue complex and the role these buildings play in our shared creative life. From their historic architecture to the personal connections forged within them\, the show highlights what these spaces mean to the artists who call them home. \nOpen to both current and former Western Avenue artists\, the work on view spans the past 20 years\, reflecting the evolving story of our community and its enduring connection to this place.
URL:https://westernavenuestudios.com/event/solid-ground-a-group-exhibit-by-was-artists-3rd-floor/
LOCATION:3rd Floor Mini Gallery\, 122 Western Avenue\, Lowell\, MA\, 01851\, United States
ATTACH;FMTTYPE=image/jpeg:https://westernavenuestudios.com/wp-content/uploads/2025/08/Solid-Ground-3rd-floor-.jpg
ORGANIZER;CN="Western Avenue | Studios & Lofts":MAILTO:marketing@westernavenuestudios.com
END:VEVENT
BEGIN:VEVENT
DTSTART;TZID=UTC:20251024T090000
DTEND;TZID=UTC:20260115T170000
DTSTAMP:20260424T214219
CREATED:20250821T163051Z
LAST-MODIFIED:20251210T173658Z
UID:43105-1761296400-1768496400@westernavenuestudios.com
SUMMARY:The Quiet Between | Group Exhibit | 4th Floor Mini Gallery
DESCRIPTION:The Quiet Between is a contemplative exploration of stillness\, transition\, and the subtle spaces that exist between moments\, emotions\, and change. Featuring a diverse group of contemporary artists\, this exhibit invites viewers to engage with works that inhabit the pause\, between sound and silence\, movement and stillness\, presence and absence.This is not an exhibit of conclusions\, but of questions. What does silence hold? Where do we go when we are in between? What truths live in the quiet? \n\nJoin us for Open Studios on Saturday\, November 1st from 12–5pm to meet the artists and explore their work\, or stop by during regular business hours (Monday–Sunday\, 9am–5pm). \n\n*This show has been extended to January 15th* \n\nSee you there!
URL:https://westernavenuestudios.com/event/the-quiet-between-group-exhibit-4th-floor-mini-gallery/
LOCATION:4th Floor Mini Gallery\, 122 Western Avenue\, Lowell\, MA\, 01851\, United States
ATTACH;FMTTYPE=image/jpeg:https://westernavenuestudios.com/wp-content/uploads/2025/08/TheQuietBetween11x17Poster.jpg
ORGANIZER;CN="Michele Boll":MAILTO:boll_m@yahoo.com
END:VEVENT
END:VCALENDAR