BEGIN:VCALENDAR
VERSION:2.0
PRODID:-//Western Avenue Studios - ECPv6.6.4.2//NONSGML v1.0//EN
CALSCALE:GREGORIAN
METHOD:PUBLISH
X-WR-CALNAME:Western Avenue Studios
X-ORIGINAL-URL:https://westernavenuestudios.com
X-WR-CALDESC:Events for Western Avenue Studios
REFRESH-INTERVAL;VALUE=DURATION:PT1H
X-Robots-Tag:noindex
X-PUBLISHED-TTL:PT1H
BEGIN:VTIMEZONE
TZID:UTC
BEGIN:STANDARD
TZOFFSETFROM:+0000
TZOFFSETTO:+0000
TZNAME:UTC
DTSTART:20190101T000000
END:STANDARD
END:VTIMEZONE
BEGIN:VEVENT
DTSTART;TZID=UTC:20200201T100000
DTEND;TZID=UTC:20200201T120000
DTSTAMP:20260425T224435
CREATED:20191224T193415Z
LAST-MODIFIED:20191224T193415Z
UID:10985-1580551200-1580558400@westernavenuestudios.com
SUMMARY:Beginning Crochet
DESCRIPTION:Learn the basic skills of crochet to create a lovely\, lacy scarf. You will learn the basic stitches (chain\, single\, double crochet) and how to read a basic chart. \nYarn and nook for your first project will be provided as part of the class fee of $120. \nPlease visit www.threadgardens.com to reserve your spot.
URL:https://westernavenuestudios.com/event/beginning-crochet/
LOCATION:Third Floor of WA\, 122 Western Ave.\, Lowell\, Massachusetts\, 01851
CATEGORIES:Art Classes
ATTACH;FMTTYPE=image/jpeg:https://westernavenuestudios.com/wp-content/uploads/2019/12/beginning-crochet.jpg
END:VEVENT
BEGIN:VEVENT
DTSTART;TZID=UTC:20191019T130000
DTEND;TZID=UTC:20191019T170000
DTSTAMP:20260425T224435
CREATED:20190917T160353Z
LAST-MODIFIED:20191227T202532Z
UID:9521-1571490000-1571504400@westernavenuestudios.com
SUMMARY:Carve a Wooden Serving Spoon
DESCRIPTION:John Francis Designs Carving Class Series: This class is a great introduction to using carving tools and getting the feel of working with wood. Through making your spoon\, we will focus on carving techniques that will allow you to carve safely with confidence\, as well as basic tool sharpening and food-safe wood finishing. \nStudents will carve and finish a serving spoon from a pre-cut blank in either Walnut or Cherry. \nAbsolute beginners are very welcome. No power tools are used in this class. \n18+ only
URL:https://westernavenuestudios.com/event/carve-a-wooden-serving-spoon/
LOCATION:Second Floor WA\, 122 Western Avenue\, Lowell\, MA\, 01851\, United States
CATEGORIES:Art Classes
ATTACH;FMTTYPE=image/jpeg:https://westernavenuestudios.com/wp-content/uploads/2019/09/john-francis-serve2019.jpg
END:VEVENT
END:VCALENDAR