BEGIN:VCALENDAR
VERSION:2.0
PRODID:-//Western Avenue Studios - ECPv6.6.4.2//NONSGML v1.0//EN
CALSCALE:GREGORIAN
METHOD:PUBLISH
X-WR-CALNAME:Western Avenue Studios
X-ORIGINAL-URL:https://westernavenuestudios.com
X-WR-CALDESC:Events for Western Avenue Studios
REFRESH-INTERVAL;VALUE=DURATION:PT1H
X-Robots-Tag:noindex
X-PUBLISHED-TTL:PT1H
BEGIN:VTIMEZONE
TZID:UTC
BEGIN:STANDARD
TZOFFSETFROM:+0000
TZOFFSETTO:+0000
TZNAME:UTC
DTSTART:20230101T000000
END:STANDARD
END:VTIMEZONE
BEGIN:VEVENT
DTSTART;TZID=UTC:20230204T120000
DTEND;TZID=UTC:20230204T170000
DTSTAMP:20260420T163227
CREATED:20230123T203328Z
LAST-MODIFIED:20230123T203329Z
UID:36710-1675512000-1675530000@westernavenuestudios.com
SUMMARY:February Open Art Studios
DESCRIPTION:Love is in the air and so is new art. 2023 is off to a great start; we had so many visitors help kick off the new year with us last month. So come join us as we celebrate friendships and love on February 4th from noon until 5 pm. \nFood truck of the day: Gentles Cuisine (Inside The Teaching Space\, Studio 225) \nThis month the Loading Dock Gallery hosts a show titled “Black and White”. With an artist reception from 3 pm until 5 pm. \nCovid-19 Guidelines:\n– Face coverings/masks are not required but recommended since some studios and businesses may require them for admission into their space.\n– Guests experiencing Covid-19 symptoms or having been instructed to quarantine by a medical professional should not attend.\n– We will have hand sanitation stations throughout the building. \nThere is no charge for this event. This event is dog-friendly. We just ask that you keep your pup on a leash. \nWe will post more updates as the event gets closer\, so stay tuned into our social media channels.
URL:https://westernavenuestudios.com/event/february-open-art-studios-23/
LOCATION:Western Avenue Studios & Lofts\, 122 Western Avenue\, Lowell\, MA\, 01851\, United States
CATEGORIES:Art Market,Artist Reception,Gallery Show Opening,Mini Gallery Show,Open Studios
ATTACH;FMTTYPE=image/jpeg:https://westernavenuestudios.com/wp-content/uploads/2023/01/February-Open-Studios-23-FB-Event-Cover.jpg
ORGANIZER;CN="Western Avenue | Studios & Lofts":MAILTO:marketing@westernavenuestudios.com
END:VEVENT
END:VCALENDAR