BEGIN:VCALENDAR
VERSION:2.0
PRODID:-//Western Avenue Studios - ECPv6.6.4.2//NONSGML v1.0//EN
CALSCALE:GREGORIAN
METHOD:PUBLISH
X-ORIGINAL-URL:https://westernavenuestudios.com
X-WR-CALDESC:Events for Western Avenue Studios
REFRESH-INTERVAL;VALUE=DURATION:PT1H
X-Robots-Tag:noindex
X-PUBLISHED-TTL:PT1H
BEGIN:VTIMEZONE
TZID:UTC
BEGIN:STANDARD
TZOFFSETFROM:+0000
TZOFFSETTO:+0000
TZNAME:UTC
DTSTART:20240101T000000
END:STANDARD
END:VTIMEZONE
BEGIN:VEVENT
DTSTART;TZID=UTC:20241207T120000
DTEND;TZID=UTC:20241207T170000
DTSTAMP:20260421T154604
CREATED:20241016T133347Z
LAST-MODIFIED:20241108T205045Z
UID:41991-1733572800-1733590800@westernavenuestudios.com
SUMMARY:December Holiday Open Art Studios
DESCRIPTION:Get ready to gift creatively! December Open Art Studios is happening the 7th and 14th from 12pm to 5 pm. \nOur last two Open Studios events of 2024 are just around the corner\, and we invite you to make this holiday season more meaningful by embracing the charm of shopping small and local. Discover unique\, locally-crafted gifts that not only showcase the talent of your community’s artists but also contribute to a thriving arts scene while reducing the environmental impact of large-scale online shopping and shipping.
URL:https://westernavenuestudios.com/event/december-holiday-open-art-studios-3/
LOCATION:Western Avenue Studios & Lofts\, 122 Western Avenue\, Lowell\, MA\, 01851\, United States
CATEGORIES:Art Market,Artist Reception,Open Studios
ATTACH;FMTTYPE=image/jpeg:https://westernavenuestudios.com/wp-content/uploads/2024/10/Holiday-FB-Event-Cover.jpg
ORGANIZER;CN="Western Avenue | Studios & Lofts":MAILTO:marketing@westernavenuestudios.com
END:VEVENT
BEGIN:VEVENT
DTSTART;TZID=UTC:20241214T120000
DTEND;TZID=UTC:20241214T170000
DTSTAMP:20260421T154604
CREATED:20241016T133316Z
LAST-MODIFIED:20241114T182206Z
UID:41990-1734177600-1734195600@westernavenuestudios.com
SUMMARY:December Holiday Open Art Studios
DESCRIPTION:Get ready to gift creatively! December Open Art Studios is happening the 7th and 14th from 12pm to 5 pm. \nOur last two Open Studios events of 2024 are just around the corner\, and we invite you to make this holiday season more meaningful by embracing the charm of shopping small and local. Discover unique\, locally-crafted gifts that not only showcase the talent of your community’s artists but also contribute to a thriving arts scene while reducing the environmental impact of large-scale online shopping and shipping. \nNibbana Cafe opens at 9am for coffee and sandwiches. \nThe Navigation Brewing taproom and food truck opens at noon. \nFree parking is available in our lots and in the shuttle-served lot at Stoklosa Middle School. \nAfter Open Studios\, Taffeta Music Hall holds live music concerts. \nSee you there!
URL:https://westernavenuestudios.com/event/december-holiday-open-art-studios-2/
LOCATION:Western Avenue Studios & Lofts\, 122 Western Avenue\, Lowell\, MA\, 01851\, United States
CATEGORIES:Art Market,Artist Reception,Open Studios
ATTACH;FMTTYPE=image/jpeg:https://westernavenuestudios.com/wp-content/uploads/2024/10/Holiday-FB-Event-Cover.jpg
ORGANIZER;CN="Western Avenue | Studios & Lofts":MAILTO:marketing@westernavenuestudios.com
END:VEVENT
END:VCALENDAR