BEGIN:VCALENDAR
VERSION:2.0
PRODID:-//Western Avenue Studios - ECPv6.6.4.2//NONSGML v1.0//EN
CALSCALE:GREGORIAN
METHOD:PUBLISH
X-ORIGINAL-URL:https://westernavenuestudios.com
X-WR-CALDESC:Events for Western Avenue Studios
REFRESH-INTERVAL;VALUE=DURATION:PT1H
X-Robots-Tag:noindex
X-PUBLISHED-TTL:PT1H
BEGIN:VTIMEZONE
TZID:UTC
BEGIN:STANDARD
TZOFFSETFROM:+0000
TZOFFSETTO:+0000
TZNAME:UTC
DTSTART:20230101T000000
END:STANDARD
END:VTIMEZONE
BEGIN:VEVENT
DTSTART;TZID=UTC:20231202T120000
DTEND;TZID=UTC:20231202T170000
DTSTAMP:20260425T124220
CREATED:20231020T235638Z
LAST-MODIFIED:20231128T183959Z
UID:39407-1701518400-1701536400@westernavenuestudios.com
SUMMARY:Holiday Open Art Studios
DESCRIPTION:This holiday season\, there’s no better way to spread cheer than by checking off your gift list while supporting local talent. At our Holiday Open Art Studios events\, we’re bringing you the perfect opportunity to do just that.\n\nWhen you buy gifts from our local artists\, you’re not just giving presents; you’re sharing stories\, craftsmanship\, and a piece of our community’s heart and soul. It’s a win-win that brightens the holidays for both the giver and the receiver.\n\nSo\, this holiday season\, let’s make a pact to keep it local. Join us on December 2nd and 9th\, and make your gift-buying experience a joyful celebration of community\, art\, and the spirit of giving. Together\, we can make this season truly special.\n\nFive floors of art studios\, two floors of artist lofts\, a coffee shop\, a co-op art gallery\, and a brewery. Admission is free. See you here!\n\nFood trucks of the day:\n– 12/2: Augusta’s Chicken On The Road\n– 12/9: Benny’s Backyard BBQ\n\nThis month the Loading Dock Gallery hosts a show titled Winter Lights.\n\nThere is no charge for this event. This event is dog-friendly. We just ask that you keep your pup on a leash.\nRemember to RSVP and share this event to let everyone know that you’ll be part of our Holiday Open Art Studios event at Western Avenue.
URL:https://westernavenuestudios.com/event/holiday-open-art-studios/
LOCATION:Western Avenue Studios & Lofts\, 122 Western Avenue\, Lowell\, MA\, 01851\, United States
CATEGORIES:Art Market,Artist Reception,Gallery Show Opening,Mini Gallery Show,Open Studios,Storage Closet Gallery
ATTACH;FMTTYPE=image/jpeg:https://westernavenuestudios.com/wp-content/uploads/2023/10/December-Open-Studios-23-FB-Event-Cover-1.jpg
ORGANIZER;CN="Western Avenue | Studios & Lofts":MAILTO:marketing@westernavenuestudios.com
END:VEVENT
BEGIN:VEVENT
DTSTART;TZID=UTC:20231202T120000
DTEND;TZID=UTC:20231202T170000
DTSTAMP:20260425T124220
CREATED:20231020T235638Z
LAST-MODIFIED:20231128T183959Z
UID:39407-1701518400-1701536400@westernavenuestudios.com
SUMMARY:Holiday Open Art Studios
DESCRIPTION:This holiday season\, there’s no better way to spread cheer than by checking off your gift list while supporting local talent. At our Holiday Open Art Studios events\, we’re bringing you the perfect opportunity to do just that.\n\nWhen you buy gifts from our local artists\, you’re not just giving presents; you’re sharing stories\, craftsmanship\, and a piece of our community’s heart and soul. It’s a win-win that brightens the holidays for both the giver and the receiver.\n\nSo\, this holiday season\, let’s make a pact to keep it local. Join us on December 2nd and 9th\, and make your gift-buying experience a joyful celebration of community\, art\, and the spirit of giving. Together\, we can make this season truly special.\n\nFive floors of art studios\, two floors of artist lofts\, a coffee shop\, a co-op art gallery\, and a brewery. Admission is free. See you here!\n\nFood trucks of the day:\n– 12/2: Augusta’s Chicken On The Road\n– 12/9: Benny’s Backyard BBQ\n\nThis month the Loading Dock Gallery hosts a show titled Winter Lights.\n\nThere is no charge for this event. This event is dog-friendly. We just ask that you keep your pup on a leash.\nRemember to RSVP and share this event to let everyone know that you’ll be part of our Holiday Open Art Studios event at Western Avenue.
URL:https://westernavenuestudios.com/event/holiday-open-art-studios/
LOCATION:Western Avenue Studios & Lofts\, 122 Western Avenue\, Lowell\, MA\, 01851\, United States
CATEGORIES:Art Market,Artist Reception,Gallery Show Opening,Mini Gallery Show,Open Studios,Storage Closet Gallery
ATTACH;FMTTYPE=image/jpeg:https://westernavenuestudios.com/wp-content/uploads/2023/10/December-Open-Studios-23-FB-Event-Cover-1.jpg
ORGANIZER;CN="Western Avenue | Studios & Lofts":MAILTO:marketing@westernavenuestudios.com
END:VEVENT
END:VCALENDAR