BEGIN:VCALENDAR
VERSION:2.0
PRODID:-//Western Avenue Studios - ECPv6.6.4.2//NONSGML v1.0//EN
CALSCALE:GREGORIAN
METHOD:PUBLISH
X-WR-CALNAME:Western Avenue Studios
X-ORIGINAL-URL:https://westernavenuestudios.com
X-WR-CALDESC:Events for Western Avenue Studios
REFRESH-INTERVAL;VALUE=DURATION:PT1H
X-Robots-Tag:noindex
X-PUBLISHED-TTL:PT1H
BEGIN:VTIMEZONE
TZID:UTC
BEGIN:STANDARD
TZOFFSETFROM:+0000
TZOFFSETTO:+0000
TZNAME:UTC
DTSTART:20250101T000000
END:STANDARD
END:VTIMEZONE
BEGIN:VEVENT
DTSTART;TZID=UTC:20250906T120000
DTEND;TZID=UTC:20250906T170000
DTSTAMP:20260426T025959
CREATED:20250801T191121Z
LAST-MODIFIED:20250801T191121Z
UID:42985-1757160000-1757178000@westernavenuestudios.com
SUMMARY:September Open Studios & Outdoor Market
DESCRIPTION:Immerse yourself in the magic of our creative community during Open Studios. This is not just an event; it’s an experience you don’t want to miss.\n\n\n\nJust one month left of Western Avenue’s Outdoor market! Make sure to come by and check out our performers\, shop our artist tents\, and enjoy the food.\n\n\n\nOutdoor tents and live performances join our usual five floors of art studios\, two floors of artist lofts\, coffee shop\, co-op art gallery\, food truck\, and brewery.\n\n\n\nThere is no charge for this event. This event is dog-friendly. We ask that you keep your pup on a leash. See you here!\n\n\nSpecial Thanks to the Massachusetts Cultural Coucil for their support in our outdoor summer events.
URL:https://westernavenuestudios.com/event/september-open-studios-outdoor-market-2/
LOCATION:Western Avenue Studios & Lofts\, 122 Western Avenue\, Lowell\, MA\, 01851\, United States
CATEGORIES:Art Market,Gallery Show Opening,Mini Gallery Show,Open Studios,Outdoor Art Market
ATTACH;FMTTYPE=image/jpeg:https://westernavenuestudios.com/wp-content/uploads/2025/08/FB-Event-Cover-September-2025-OS-600-x-400-px.jpg
ORGANIZER;CN="Western Avenue | Studios & Lofts":MAILTO:marketing@westernavenuestudios.com
END:VEVENT
END:VCALENDAR