BEGIN:VCALENDAR
VERSION:2.0
PRODID:-//Western Avenue Studios - ECPv6.6.4.2//NONSGML v1.0//EN
CALSCALE:GREGORIAN
METHOD:PUBLISH
X-WR-CALNAME:Western Avenue Studios
X-ORIGINAL-URL:https://westernavenuestudios.com
X-WR-CALDESC:Events for Western Avenue Studios
REFRESH-INTERVAL;VALUE=DURATION:PT1H
X-Robots-Tag:noindex
X-PUBLISHED-TTL:PT1H
BEGIN:VTIMEZONE
TZID:UTC
BEGIN:STANDARD
TZOFFSETFROM:+0000
TZOFFSETTO:+0000
TZNAME:UTC
DTSTART:20250101T000000
END:STANDARD
END:VTIMEZONE
BEGIN:VEVENT
DTSTART;TZID=UTC:20250802T120000
DTEND;TZID=UTC:20250802T170000
DTSTAMP:20260424T150625
CREATED:20250711T114320Z
LAST-MODIFIED:20250711T114320Z
UID:42841-1754136000-1754154000@westernavenuestudios.com
SUMMARY:August Open Studios & Outdoor Market
DESCRIPTION:Immerse yourself in the magic of our creative community during Open Studios. This is not just an event; it’s an experience you don’t want to miss.\n\n\nSummer is here\, and weather permitting\, Western Avenue’s Outdoor market is back!\n\n\nOutdoor tents and live performances join our usual five floors of art studios\, two floors of artist lofts\, coffee shop\, co-op art gallery\, food truck\, and brewery.\n\n\nThere is no charge for this event. This event is dog-friendly. We ask that you keep your pup on a leash. See you here!\n\nSpecial Thanks to the Massachusetts Cultural Coucil for their support in our outdoor summer events.
URL:https://westernavenuestudios.com/event/august-open-studios-outdoor-market/
LOCATION:Western Avenue Studios & Lofts\, 122 Western Avenue\, Lowell\, MA\, 01851\, United States
CATEGORIES:Art Market,Gallery Show Opening,Mini Gallery Show,Open Studios,Outdoor Art Market
ATTACH;FMTTYPE=image/jpeg:https://westernavenuestudios.com/wp-content/uploads/2025/07/FB-Event-Cover-August-2025-OS-600-x-400-px.jpg
ORGANIZER;CN="Western Avenue | Studios & Lofts":MAILTO:marketing@westernavenuestudios.com
END:VEVENT
END:VCALENDAR